Package: altcdfenvs Version: 2.66.0 Command: E:\biocbuild\bbs-3.19-bioc\R\bin\R.exe CMD check --no-multiarch --install=check:altcdfenvs.install-out.txt --library=E:\biocbuild\bbs-3.19-bioc\R\library --no-vignettes --timings altcdfenvs_2.66.0.tar.gz StartedAt: 2024-10-16 22:47:20 -0400 (Wed, 16 Oct 2024) EndedAt: 2024-10-16 22:49:19 -0400 (Wed, 16 Oct 2024) EllapsedTime: 118.7 seconds RetCode: 0 Status: OK CheckDir: altcdfenvs.Rcheck Warnings: 0