Package: altcdfenvs Version: 2.66.0 Command: /home/biocbuild/bbs-3.19-bioc/R/bin/R CMD build --keep-empty-dirs --no-resave-data altcdfenvs StartedAt: 2024-10-16 16:53:55 -0400 (Wed, 16 Oct 2024) EndedAt: 2024-10-16 16:54:39 -0400 (Wed, 16 Oct 2024) EllapsedTime: 44.1 seconds RetCode: 0 Status: OK PackageFile: altcdfenvs_2.66.0.tar.gz PackageFileSize: 320.9 KiB