Package: altcdfenvs Version: 2.66.0 Command: rm -rf altcdfenvs.buildbin-libdir && mkdir altcdfenvs.buildbin-libdir && /Users/biocbuild/BBS/utils/build-universal.sh altcdfenvs_2.66.0.tar.gz /Library/Frameworks/R.framework/Resources/bin/R altcdfenvs.buildbin-libdir StartedAt: 2024-10-17 15:37:07 -0400 (Thu, 17 Oct 2024) EndedAt: 2024-10-17 15:37:44 -0400 (Thu, 17 Oct 2024) EllapsedTime: 36.8 seconds RetCode: 0 Status: OK PackageFile: altcdfenvs_2.66.0.tgz PackageFileSize: 1.097 MiB