Package: alabaster Version: 1.4.0 Command: E:\biocbuild\bbs-3.19-bioc\R\bin\R.exe CMD INSTALL alabaster StartedAt: 2024-10-16 17:14:55 -0400 (Wed, 16 Oct 2024) EndedAt: 2024-10-16 17:15:43 -0400 (Wed, 16 Oct 2024) EllapsedTime: 47.8 seconds RetCode: 0 Status: OK