Package: alabaster Version: 1.4.0 Command: /Library/Frameworks/R.framework/Resources/bin/R CMD INSTALL alabaster StartedAt: 2024-06-09 15:39:29 -0400 (Sun, 09 Jun 2024) EndedAt: 2024-06-09 15:40:28 -0400 (Sun, 09 Jun 2024) EllapsedTime: 59.1 seconds RetCode: 0 Status: OK