Package: alabaster Version: 1.4.0 Command: /Library/Frameworks/R.framework/Resources/bin/R CMD check --install=check:alabaster.install-out.txt --library=/Library/Frameworks/R.framework/Resources/library --no-vignettes --timings alabaster_1.4.0.tar.gz StartedAt: 2024-06-10 07:01:03 -0400 (Mon, 10 Jun 2024) EndedAt: 2024-06-10 07:06:41 -0400 (Mon, 10 Jun 2024) EllapsedTime: 338.4 seconds RetCode: 0 Status: OK CheckDir: alabaster.Rcheck Warnings: 0