Package: alabaster Version: 1.4.0 Command: /Library/Frameworks/R.framework/Resources/bin/R CMD INSTALL alabaster StartedAt: 2024-10-16 18:37:09 -0400 (Wed, 16 Oct 2024) EndedAt: 2024-10-16 18:38:04 -0400 (Wed, 16 Oct 2024) EllapsedTime: 55.2 seconds RetCode: 0 Status: OK