Package: alabaster Version: 1.4.0 Command: /Library/Frameworks/R.framework/Resources/bin/R CMD build --keep-empty-dirs --no-resave-data alabaster StartedAt: 2024-10-16 19:12:33 -0400 (Wed, 16 Oct 2024) EndedAt: 2024-10-16 19:13:30 -0400 (Wed, 16 Oct 2024) EllapsedTime: 57.3 seconds RetCode: 0 Status: OK PackageFile: alabaster_1.4.0.tar.gz PackageFileSize: 215.5 KiB