Package: alabaster.vcf Version: 1.4.0 Command: rm -rf alabaster.vcf.buildbin-libdir && mkdir alabaster.vcf.buildbin-libdir && E:\biocbuild\bbs-3.19-bioc\R\bin\R.exe CMD INSTALL --build --library=alabaster.vcf.buildbin-libdir alabaster.vcf_1.4.0.tar.gz StartedAt: 2024-10-17 07:19:02 -0400 (Thu, 17 Oct 2024) EndedAt: 2024-10-17 07:19:53 -0400 (Thu, 17 Oct 2024) EllapsedTime: 50.5 seconds RetCode: 0 Status: OK PackageFile: alabaster.vcf_1.4.0.zip PackageFileSize: 306.4 KiB