Package: alabaster.string Version: 1.4.0 Command: rm -rf alabaster.string.buildbin-libdir && mkdir alabaster.string.buildbin-libdir && E:\biocbuild\bbs-3.19-bioc\R\bin\R.exe CMD INSTALL --build --library=alabaster.string.buildbin-libdir alabaster.string_1.4.0.tar.gz StartedAt: 2024-10-17 07:19:01 -0400 (Thu, 17 Oct 2024) EndedAt: 2024-10-17 07:19:24 -0400 (Thu, 17 Oct 2024) EllapsedTime: 22.6 seconds RetCode: 0 Status: OK PackageFile: alabaster.string_1.4.0.zip PackageFileSize: 272.3 KiB