Package: alabaster.string Version: 1.4.0 Command: rm -rf alabaster.string.buildbin-libdir && mkdir alabaster.string.buildbin-libdir && F:\biocbuild\bbs-3.19-bioc\R\bin\R.exe CMD INSTALL --build --library=alabaster.string.buildbin-libdir alabaster.string_1.4.0.tar.gz StartedAt: 2024-06-27 07:48:54 -0400 (Thu, 27 Jun 2024) EndedAt: 2024-06-27 07:49:11 -0400 (Thu, 27 Jun 2024) EllapsedTime: 16.5 seconds RetCode: 0 Status: OK PackageFile: alabaster.string_1.4.0.zip PackageFileSize: 272.2 KiB