Package: alabaster.string Version: 1.4.0 Command: /Library/Frameworks/R.framework/Resources/bin/R CMD INSTALL alabaster.string StartedAt: 2024-06-09 15:18:11 -0400 (Sun, 09 Jun 2024) EndedAt: 2024-06-09 15:18:26 -0400 (Sun, 09 Jun 2024) EllapsedTime: 15.0 seconds RetCode: 0 Status: OK