Package: alabaster.spatial Version: 1.4.0 Command: rm -rf alabaster.spatial.buildbin-libdir && mkdir alabaster.spatial.buildbin-libdir && E:\biocbuild\bbs-3.19-bioc\R\bin\R.exe CMD INSTALL --build --library=alabaster.spatial.buildbin-libdir alabaster.spatial_1.4.0.tar.gz StartedAt: 2024-10-17 07:18:56 -0400 (Thu, 17 Oct 2024) EndedAt: 2024-10-17 07:19:36 -0400 (Thu, 17 Oct 2024) EllapsedTime: 40.4 seconds RetCode: 0 Status: OK PackageFile: alabaster.spatial_1.4.0.zip PackageFileSize: 771.2 KiB