Package: alabaster.spatial Version: 1.4.0 Command: /home/biocbuild/bbs-3.19-bioc/R/bin/R CMD build --keep-empty-dirs --no-resave-data alabaster.spatial StartedAt: 2024-10-16 16:53:33 -0400 (Wed, 16 Oct 2024) EndedAt: 2024-10-16 16:54:15 -0400 (Wed, 16 Oct 2024) EllapsedTime: 42.1 seconds RetCode: 0 Status: OK PackageFile: alabaster.spatial_1.4.0.tar.gz PackageFileSize: 628 KiB