Package: alabaster.spatial Version: 1.4.0 Command: rm -rf alabaster.spatial.buildbin-libdir && mkdir alabaster.spatial.buildbin-libdir && /Users/biocbuild/BBS/utils/build-universal.sh alabaster.spatial_1.4.0.tar.gz /Library/Frameworks/R.framework/Resources/bin/R alabaster.spatial.buildbin-libdir StartedAt: 2024-10-17 15:36:46 -0400 (Thu, 17 Oct 2024) EndedAt: 2024-10-17 15:37:55 -0400 (Thu, 17 Oct 2024) EllapsedTime: 69.2 seconds RetCode: 0 Status: OK PackageFile: alabaster.spatial_1.4.0.tgz PackageFileSize: 858.7 KiB