Package: alabaster.spatial Version: 1.4.0 Command: /Library/Frameworks/R.framework/Resources/bin/R CMD build --keep-empty-dirs --no-resave-data alabaster.spatial StartedAt: 2024-06-09 17:57:15 -0400 (Sun, 09 Jun 2024) EndedAt: 2024-06-09 17:58:10 -0400 (Sun, 09 Jun 2024) EllapsedTime: 55.8 seconds RetCode: 0 Status: OK PackageFile: alabaster.spatial_1.4.0.tar.gz PackageFileSize: 738.1 KiB