Package: alabaster.spatial Version: 1.4.0 Command: /Library/Frameworks/R.framework/Resources/bin/R CMD build --keep-empty-dirs --no-resave-data alabaster.spatial StartedAt: 2024-10-16 19:14:28 -0400 (Wed, 16 Oct 2024) EndedAt: 2024-10-16 19:15:21 -0400 (Wed, 16 Oct 2024) EllapsedTime: 52.9 seconds RetCode: 0 Status: OK PackageFile: alabaster.spatial_1.4.0.tar.gz PackageFileSize: 738.1 KiB