Package: alabaster.se Version: 1.4.1 Command: /Library/Frameworks/R.framework/Resources/bin/R CMD build --keep-empty-dirs --no-resave-data alabaster.se StartedAt: 2024-10-16 17:00:53 -0400 (Wed, 16 Oct 2024) EndedAt: 2024-10-16 17:02:11 -0400 (Wed, 16 Oct 2024) EllapsedTime: 78.2 seconds RetCode: 0 Status: OK PackageFile: alabaster.se_1.4.1.tar.gz PackageFileSize: 224.4 KiB