Package: alabaster.se Version: 1.4.1 Command: /Library/Frameworks/R.framework/Resources/bin/R CMD check --install=check:alabaster.se.install-out.txt --library=/Library/Frameworks/R.framework/Resources/library --no-vignettes --timings alabaster.se_1.4.1.tar.gz StartedAt: 2024-06-10 07:07:06 -0400 (Mon, 10 Jun 2024) EndedAt: 2024-06-10 07:11:50 -0400 (Mon, 10 Jun 2024) EllapsedTime: 284.3 seconds RetCode: 0 Status: OK CheckDir: alabaster.se.Rcheck Warnings: 0