Package: alabaster.schemas Version: 1.4.0 Command: chmod a+r alabaster.schemas -R && E:\biocbuild\bbs-3.19-bioc\R\bin\R.exe CMD build --keep-empty-dirs --no-resave-data alabaster.schemas StartedAt: 2024-10-16 17:31:27 -0400 (Wed, 16 Oct 2024) EndedAt: 2024-10-16 17:31:37 -0400 (Wed, 16 Oct 2024) EllapsedTime: 10.1 seconds RetCode: 0 Status: OK PackageFile: alabaster.schemas_1.4.0.tar.gz PackageFileSize: 240 KiB