Package: alabaster.schemas Version: 1.4.0 Command: rm -rf alabaster.schemas.buildbin-libdir && mkdir alabaster.schemas.buildbin-libdir && E:\biocbuild\bbs-3.19-bioc\R\bin\R.exe CMD INSTALL --build --library=alabaster.schemas.buildbin-libdir alabaster.schemas_1.4.0.tar.gz StartedAt: 2024-10-17 07:18:52 -0400 (Thu, 17 Oct 2024) EndedAt: 2024-10-17 07:19:01 -0400 (Thu, 17 Oct 2024) EllapsedTime: 9.1 seconds RetCode: 0 Status: OK PackageFile: alabaster.schemas_1.4.0.zip PackageFileSize: 296.9 KiB