Package: alabaster.schemas Version: 1.4.0 Command: /home/biocbuild/bbs-3.19-bioc/R/bin/R CMD INSTALL alabaster.schemas StartedAt: 2024-10-16 15:49:03 -0400 (Wed, 16 Oct 2024) EndedAt: 2024-10-16 15:49:11 -0400 (Wed, 16 Oct 2024) EllapsedTime: 7.9 seconds RetCode: 0 Status: OK