Package: alabaster.schemas Version: 1.4.0 Command: /home/biocbuild/bbs-3.19-bioc/R/bin/R CMD check --install=check:alabaster.schemas.install-out.txt --library=/home/biocbuild/bbs-3.19-bioc/R/site-library --timings alabaster.schemas_1.4.0.tar.gz StartedAt: 2024-10-16 21:33:29 -0400 (Wed, 16 Oct 2024) EndedAt: 2024-10-16 21:33:39 -0400 (Wed, 16 Oct 2024) EllapsedTime: 10.1 seconds RetCode: 0 Status: OK CheckDir: alabaster.schemas.Rcheck Warnings: 0