Package: alabaster.schemas Version: 1.4.0 Command: /home/biocbuild/R/R-beta-2024-04-15_r86425/bin/R CMD build --keep-empty-dirs --no-resave-data alabaster.schemas StartedAt: 2024-05-08 22:16:25 -0000 (Wed, 08 May 2024) EndedAt: 2024-05-08 22:16:30 -0000 (Wed, 08 May 2024) EllapsedTime: 5.0 seconds RetCode: 0 Status: OK PackageFile: alabaster.schemas_1.4.0.tar.gz PackageFileSize: 263.4 KiB