Package: alabaster.schemas Version: 1.4.0 Command: /Library/Frameworks/R.framework/Resources/bin/R CMD build --keep-empty-dirs --no-resave-data alabaster.schemas StartedAt: 2024-10-16 19:14:16 -0400 (Wed, 16 Oct 2024) EndedAt: 2024-10-16 19:14:22 -0400 (Wed, 16 Oct 2024) EllapsedTime: 5.7 seconds RetCode: 0 Status: OK PackageFile: alabaster.schemas_1.4.0.tar.gz PackageFileSize: 239.9 KiB