Package: alabaster.sce Version: 1.4.0 Command: F:\biocbuild\bbs-3.19-bioc\R\bin\R.exe CMD INSTALL alabaster.sce StartedAt: 2024-06-26 16:45:10 -0400 (Wed, 26 Jun 2024) EndedAt: 2024-06-26 16:45:44 -0400 (Wed, 26 Jun 2024) EllapsedTime: 34.0 seconds RetCode: 0 Status: OK