Package: alabaster.sce Version: 1.4.0 Command: chmod a+r alabaster.sce -R && F:\biocbuild\bbs-3.19-bioc\R\bin\R.exe CMD build --keep-empty-dirs --no-resave-data alabaster.sce StartedAt: 2024-06-26 17:02:42 -0400 (Wed, 26 Jun 2024) EndedAt: 2024-06-26 17:03:31 -0400 (Wed, 26 Jun 2024) EllapsedTime: 49.5 seconds RetCode: 0 Status: OK PackageFile: alabaster.sce_1.4.0.tar.gz PackageFileSize: 220.4 KiB