Package: alabaster.ranges Version: 1.4.2 Command: chmod a+r alabaster.ranges -R && F:\biocbuild\bbs-3.19-bioc\R\bin\R.exe CMD build --keep-empty-dirs --no-resave-data alabaster.ranges StartedAt: 2024-06-26 17:02:38 -0400 (Wed, 26 Jun 2024) EndedAt: 2024-06-26 17:03:03 -0400 (Wed, 26 Jun 2024) EllapsedTime: 24.3 seconds RetCode: 0 Status: OK PackageFile: alabaster.ranges_1.4.2.tar.gz PackageFileSize: 225.7 KiB