Package: alabaster.ranges Version: 1.4.2 Command: /home/biocbuild/bbs-3.19-bioc/R/bin/R CMD check --install=check:alabaster.ranges.install-out.txt --library=/home/biocbuild/bbs-3.19-bioc/R/site-library --timings alabaster.ranges_1.4.2.tar.gz StartedAt: 2024-10-16 21:33:15 -0400 (Wed, 16 Oct 2024) EndedAt: 2024-10-16 21:34:47 -0400 (Wed, 16 Oct 2024) EllapsedTime: 92.2 seconds RetCode: 0 Status: OK CheckDir: alabaster.ranges.Rcheck Warnings: 0