Package: alabaster.ranges Version: 1.4.2 Command: /Library/Frameworks/R.framework/Resources/bin/R CMD check --install=check:alabaster.ranges.install-out.txt --library=/Library/Frameworks/R.framework/Resources/library --no-vignettes --timings alabaster.ranges_1.4.2.tar.gz StartedAt: 2024-10-17 00:55:19 -0400 (Thu, 17 Oct 2024) EndedAt: 2024-10-17 00:59:05 -0400 (Thu, 17 Oct 2024) EllapsedTime: 226.5 seconds RetCode: 0 Status: OK CheckDir: alabaster.ranges.Rcheck Warnings: 0