Package: alabaster.ranges Version: 1.4.1 Command: /Library/Frameworks/R.framework/Resources/bin/R CMD build --keep-empty-dirs --no-resave-data alabaster.ranges StartedAt: 2024-06-09 15:49:06 -0400 (Sun, 09 Jun 2024) EndedAt: 2024-06-09 15:49:27 -0400 (Sun, 09 Jun 2024) EllapsedTime: 20.3 seconds RetCode: 0 Status: OK PackageFile: alabaster.ranges_1.4.1.tar.gz PackageFileSize: 225.5 KiB