Package: alabaster.ranges Version: 1.4.1 Command: /Library/Frameworks/R.framework/Resources/bin/R CMD check --install=check:alabaster.ranges.install-out.txt --library=/Library/Frameworks/R.framework/Resources/library --no-vignettes --timings alabaster.ranges_1.4.1.tar.gz StartedAt: 2024-06-10 07:06:08 -0400 (Mon, 10 Jun 2024) EndedAt: 2024-06-10 07:08:25 -0400 (Mon, 10 Jun 2024) EllapsedTime: 137.1 seconds RetCode: 0 Status: OK CheckDir: alabaster.ranges.Rcheck Warnings: 0