Package: alabaster.matrix Version: 1.4.2 Command: E:\biocbuild\bbs-3.19-bioc\R\bin\R.exe CMD check --no-multiarch --install=check:alabaster.matrix.install-out.txt --library=E:\biocbuild\bbs-3.19-bioc\R\library --no-vignettes --timings alabaster.matrix_1.4.2.tar.gz StartedAt: 2024-10-16 22:45:24 -0400 (Wed, 16 Oct 2024) EndedAt: 2024-10-16 22:50:13 -0400 (Wed, 16 Oct 2024) EllapsedTime: 288.5 seconds RetCode: 0 Status: OK CheckDir: alabaster.matrix.Rcheck Warnings: 0