Package: alabaster.matrix Version: 1.4.2 Command: F:\biocbuild\bbs-3.19-bioc\R\bin\R.exe CMD INSTALL alabaster.matrix StartedAt: 2024-06-26 15:48:43 -0400 (Wed, 26 Jun 2024) EndedAt: 2024-06-26 15:49:30 -0400 (Wed, 26 Jun 2024) EllapsedTime: 46.8 seconds RetCode: 0 Status: OK