Package: alabaster.matrix Version: 1.4.2 Command: chmod a+r alabaster.matrix -R && F:\biocbuild\bbs-3.19-bioc\R\bin\R.exe CMD build --keep-empty-dirs --no-resave-data alabaster.matrix StartedAt: 2024-06-26 17:02:28 -0400 (Wed, 26 Jun 2024) EndedAt: 2024-06-26 17:03:27 -0400 (Wed, 26 Jun 2024) EllapsedTime: 59.1 seconds RetCode: 0 Status: OK PackageFile: alabaster.matrix_1.4.2.tar.gz PackageFileSize: 265.6 KiB