Package: alabaster.matrix Version: 1.4.2 Command: rm -rf alabaster.matrix.buildbin-libdir && mkdir alabaster.matrix.buildbin-libdir && F:\biocbuild\bbs-3.19-bioc\R\bin\R.exe CMD INSTALL --build --library=alabaster.matrix.buildbin-libdir alabaster.matrix_1.4.2.tar.gz StartedAt: 2024-06-27 07:48:44 -0400 (Thu, 27 Jun 2024) EndedAt: 2024-06-27 07:49:32 -0400 (Thu, 27 Jun 2024) EllapsedTime: 48.4 seconds RetCode: 0 Status: OK PackageFile: alabaster.matrix_1.4.2.zip PackageFileSize: 1.008 MiB