Package: alabaster.matrix Version: 1.4.2 Command: /home/biocbuild/bbs-3.19-bioc/R/bin/R CMD INSTALL alabaster.matrix StartedAt: 2024-10-16 15:57:39 -0400 (Wed, 16 Oct 2024) EndedAt: 2024-10-16 15:58:04 -0400 (Wed, 16 Oct 2024) EllapsedTime: 25.6 seconds RetCode: 0 Status: OK