Package: alabaster.matrix Version: 1.4.2 Command: /home/biocbuild/bbs-3.19-bioc/R/bin/R CMD check --install=check:alabaster.matrix.install-out.txt --library=/home/biocbuild/bbs-3.19-bioc/R/site-library --timings alabaster.matrix_1.4.2.tar.gz StartedAt: 2024-10-16 21:33:09 -0400 (Wed, 16 Oct 2024) EndedAt: 2024-10-16 21:36:50 -0400 (Wed, 16 Oct 2024) EllapsedTime: 221.5 seconds RetCode: 0 Status: OK CheckDir: alabaster.matrix.Rcheck Warnings: 0