Package: alabaster.matrix Version: 1.4.2 Command: /home/biocbuild/bbs-3.19-bioc/R/bin/R CMD build --keep-empty-dirs --no-resave-data alabaster.matrix StartedAt: 2024-10-16 16:53:11 -0400 (Wed, 16 Oct 2024) EndedAt: 2024-10-16 16:53:44 -0400 (Wed, 16 Oct 2024) EllapsedTime: 33.1 seconds RetCode: 0 Status: OK PackageFile: alabaster.matrix_1.4.2.tar.gz PackageFileSize: 265.6 KiB