Package: alabaster.matrix Version: 1.4.2 Command: /Library/Frameworks/R.framework/Resources/bin/R CMD INSTALL alabaster.matrix StartedAt: 2024-10-16 15:20:45 -0400 (Wed, 16 Oct 2024) EndedAt: 2024-10-16 15:21:47 -0400 (Wed, 16 Oct 2024) EllapsedTime: 62.5 seconds RetCode: 0 Status: OK