Package: alabaster.matrix Version: 1.4.2 Command: /Library/Frameworks/R.framework/Resources/bin/R CMD build --keep-empty-dirs --no-resave-data alabaster.matrix StartedAt: 2024-10-16 17:00:16 -0400 (Wed, 16 Oct 2024) EndedAt: 2024-10-16 17:01:40 -0400 (Wed, 16 Oct 2024) EllapsedTime: 83.4 seconds RetCode: 0 Status: OK PackageFile: alabaster.matrix_1.4.2.tar.gz PackageFileSize: 265.5 KiB