Package: alabaster.mae Version: 1.4.0 Command: rm -rf alabaster.mae.buildbin-libdir && mkdir alabaster.mae.buildbin-libdir && F:\biocbuild\bbs-3.19-bioc\R\bin\R.exe CMD INSTALL --build --library=alabaster.mae.buildbin-libdir alabaster.mae_1.4.0.tar.gz StartedAt: 2024-06-27 07:48:42 -0400 (Thu, 27 Jun 2024) EndedAt: 2024-06-27 07:49:16 -0400 (Thu, 27 Jun 2024) EllapsedTime: 33.2 seconds RetCode: 0 Status: OK PackageFile: alabaster.mae_1.4.0.zip PackageFileSize: 302.7 KiB