Package: alabaster.mae Version: 1.4.0 Command: /home/biocbuild/bbs-3.19-bioc/R/bin/R CMD INSTALL alabaster.mae StartedAt: 2024-10-16 16:40:49 -0400 (Wed, 16 Oct 2024) EndedAt: 2024-10-16 16:41:15 -0400 (Wed, 16 Oct 2024) EllapsedTime: 26.3 seconds RetCode: 0 Status: OK