Package: alabaster.mae Version: 1.4.0 Command: /home/biocbuild/bbs-3.19-bioc/R/bin/R CMD check --install=check:alabaster.mae.install-out.txt --library=/home/biocbuild/bbs-3.19-bioc/R/site-library --timings alabaster.mae_1.4.0.tar.gz StartedAt: 2024-10-16 21:33:02 -0400 (Wed, 16 Oct 2024) EndedAt: 2024-10-16 21:36:44 -0400 (Wed, 16 Oct 2024) EllapsedTime: 222.5 seconds RetCode: 0 Status: OK CheckDir: alabaster.mae.Rcheck Warnings: 0