Package: alabaster.mae Version: 1.4.0 Command: /home/biocbuild/bbs-3.19-bioc/R/bin/R CMD build --keep-empty-dirs --no-resave-data alabaster.mae StartedAt: 2024-10-16 16:53:06 -0400 (Wed, 16 Oct 2024) EndedAt: 2024-10-16 16:53:42 -0400 (Wed, 16 Oct 2024) EllapsedTime: 36.1 seconds RetCode: 0 Status: OK PackageFile: alabaster.mae_1.4.0.tar.gz PackageFileSize: 222.9 KiB