Package: alabaster.mae Version: 1.4.0 Command: /Library/Frameworks/R.framework/Resources/bin/R CMD check --install=check:alabaster.mae.install-out.txt --library=/Library/Frameworks/R.framework/Resources/library --no-vignettes --timings alabaster.mae_1.4.0.tar.gz StartedAt: 2024-10-17 00:55:02 -0400 (Thu, 17 Oct 2024) EndedAt: 2024-10-17 01:03:49 -0400 (Thu, 17 Oct 2024) EllapsedTime: 526.4 seconds RetCode: 0 Status: OK CheckDir: alabaster.mae.Rcheck Warnings: 0