Package: alabaster.mae Version: 1.4.0 Command: rm -rf alabaster.mae.buildbin-libdir && mkdir alabaster.mae.buildbin-libdir && /Users/biocbuild/BBS/utils/build-universal.sh alabaster.mae_1.4.0.tar.gz /Library/Frameworks/R.framework/Resources/bin/R alabaster.mae.buildbin-libdir StartedAt: 2024-10-18 17:14:16 -0400 (Fri, 18 Oct 2024) EndedAt: 2024-10-18 17:14:54 -0400 (Fri, 18 Oct 2024) EllapsedTime: 38.8 seconds RetCode: 0 Status: OK PackageFile: alabaster.mae_1.4.0.tgz PackageFileSize: 298.1 KiB