Package: alabaster.files Version: 1.2.0 Command: E:\biocbuild\bbs-3.19-bioc\R\bin\R.exe CMD INSTALL alabaster.files StartedAt: 2024-10-16 16:27:42 -0400 (Wed, 16 Oct 2024) EndedAt: 2024-10-16 16:28:38 -0400 (Wed, 16 Oct 2024) EllapsedTime: 56.4 seconds RetCode: 0 Status: OK