Package: alabaster.files Version: 1.2.0 Command: chmod a+r alabaster.files -R && E:\biocbuild\bbs-3.19-bioc\R\bin\R.exe CMD build --keep-empty-dirs --no-resave-data alabaster.files StartedAt: 2024-10-16 17:31:00 -0400 (Wed, 16 Oct 2024) EndedAt: 2024-10-16 17:31:36 -0400 (Wed, 16 Oct 2024) EllapsedTime: 36.2 seconds RetCode: 0 Status: OK PackageFile: alabaster.files_1.2.0.tar.gz PackageFileSize: 234.3 KiB