Package: alabaster.files Version: 1.2.0 Command: F:\biocbuild\bbs-3.19-bioc\R\bin\R.exe CMD check --no-multiarch --install=check:alabaster.files.install-out.txt --library=F:\biocbuild\bbs-3.19-bioc\R\library --no-vignettes --timings alabaster.files_1.2.0.tar.gz StartedAt: 2024-06-26 22:50:56 -0400 (Wed, 26 Jun 2024) EndedAt: 2024-06-26 22:53:12 -0400 (Wed, 26 Jun 2024) EllapsedTime: 135.2 seconds RetCode: 0 Status: OK CheckDir: alabaster.files.Rcheck Warnings: 0